BEGIN:VCALENDAR
VERSION:2.0
PRODID:-//ChamberMaster//Event Calendar 2.0//EN
METHOD:PUBLISH
X-PUBLISHED-TTL:P3D
REFRESH-INTERVAL:P3D
CALSCALE:GREGORIAN
BEGIN:VEVENT
DTSTART:20291207T233000Z
DTEND:20291208T030000Z
X-MICROSOFT-CDO-ALLDAYEVENT:FALSE
SUMMARY:67th Annual Walt Kammann Sausage Fry
DESCRIPTION:Yuma Rotary Club\n\n67th Annual Walt Kammann Sausage Fry\n\nFriday December 5th\n\n4:30 pm - 8 pm\n\nYuma Civic Center\n\n1440 W Desert Hills Dr Yuma AZ\n\nMusic * Food * Drinks * Prizes\n\nFunds Local Scholarships\n\nPurchase tickets at www.YumaRotary.org
X-ALT-DESC;FMTTYPE=text/html:Yuma Rotary Club<br />\n67th Annual Walt Kammann Sausage Fry<br />\nFriday December 5th<br />\n4:30 pm - 8 pm<br />\nYuma Civic Center<br />\n1440 W Desert Hills Dr Yuma AZ<br />\nMusic * Food * Drinks * Prizes<br />\nFunds Local Scholarships<br />\nPurchase tickets at www.YumaRotary.org<br />\n&nbsp\;
LOCATION:Yuma Civic Center 1440 W Desert Hills Dr Yuma\, AZ 85364
UID:e.3378.5516
SEQUENCE:3
DTSTAMP:20260423T214746Z
URL:https://members.yumachamber.org/events/details/67th-annual-walt-kammann-sausage-fry-12-07-2029-5516
END:VEVENT

END:VCALENDAR
