BEGIN:VCALENDAR
VERSION:2.0
PRODID:-//ChamberMaster//Event Calendar 2.0//EN
METHOD:PUBLISH
X-PUBLISHED-TTL:P3D
REFRESH-INTERVAL:P3D
CALSCALE:GREGORIAN
BEGIN:VEVENT
DTSTART:20240412T193000Z
DTEND:20240413T020000Z
X-MICROSOFT-CDO-ALLDAYEVENT:FALSE
SUMMARY:Amazing Race Yuma County 2024
DESCRIPTION:HOW IT WORKS\n\nThe teams will be provided with an initial starting point and registration time. There will be staggered starting times at set intervals based on the number of teams entered. The team's starting time will be noted as the winner will be based on actual time plus penalties from their start to finish rather than who finishes first.\n\nAt the starting location\, the teams will be given their first challenge. When the first challenge begins\, the team's starting time will be recorded. Upon completion of the first challenge\, the team will be given a checklist of the ten locations they must visit in order to complete the race. The team will then drive to the first location.\n\nAt each location\, the team will need to complete that location's challenge. Once that challenge is complete\, the location representative will initial the team's checklist and provide them with an envelope with puzzle pieces in it.\n\nOnce the team has successfully completed the challenges at all ten locations\, the team will go to the finish line. Before a team can officially cross the finish line\, the team will be provided a table on which they must complete a puzzle using all the puzzle pieces received throughout the race. Upon successful completion of the puzzle\, the team's completion time will be noted to calculate their total race time.\n\nThe winner will be the team that completes the race in the least amount of time. Prizes will be awarded!\n\n\n\n \n\nSAFETY\n\nTeams must obey all applicable laws at all times. Traffic safety is an absolute must. Anyone caught violating a traffic law will be immediately disqualified. Severe time penalties or disqualification will occur is anyone is observed driving in a reckless manner including driving too quickly through parking lots\, not parking appropriately\, squealing tires\, etc.\n\nWhen at challenge locations\, teams must be respectful of the business and the people around them. There is no running at any location. Doors should be opened and closed with care. If the business has customers\, teams must act in a professional manner so as not to disrupt normal business.\n\nCDC COVID-19 guidelines must be followed. Whenever possible\, a minimum of 6-feet distance must be maintained. Masks must be worn when physical distancing is not possible outdoors and at all times indoors unless at a table eating or drinking.\n\n\n\nREFUND POLICY\n\nCancellations received at least 2 weeks prior to the event will receive a refund of their registration fee minus a 5% processing fee. Cancellations received within 2 weeks of the event will not be refunded.\n\n\n\nREGISTRATION WAIVER\n\nBy registering for this event\, attendees acknowledge that an inherent risk of exposure to the disease COVID-19 and any other communicable or infectious disease exists in any public place where people are present. No precautions can completely eliminate the risk of exposure to COVID-19 and the risk of exposure applies to everyone. Therefore\, by registering\, attendees agree to waive\, covenant not to sue\, and discharge the Yuma County Chamber of Commerce\, its representatives\, and the event venue arising out of or in any way relating to exposure to COVID-19 and any other communicable or infectious disease.\n\n\n\nTEAMS MUST SIGN A LIABILITY WAIVER PRIOR TO PARTICIPATION.\n\n\n\nThe Amazing Race Yuma County is a networking and fundraising event for the Yuma County Chamber of Commerce. It is not affiliated with CBS\, World Race Productions or The Amazing Race.
X-ALT-DESC;FMTTYPE=text/html:<p dir="ltr" style="line-height:1.3800000000000001\;margin-top:0pt\;margin-bottom:10pt\;"><span style="font-size:16px\;"><span style="font-family:times new roman\;"><span id="docs-internal-guid-75eff073-7fff-bf05-8621-677aa39eec99"><span style="color: rgb(0\, 0\, 0)\; background-color: transparent\; font-variant-numeric: normal\; font-variant-east-asian: normal\; vertical-align: baseline\; white-space: pre-wrap\;">HOW IT WORKS</span><br />\n<span style="color: rgb(0\, 0\, 0)\; background-color: transparent\; font-variant-numeric: normal\; font-variant-east-asian: normal\; vertical-align: baseline\; white-space: pre-wrap\;">The teams will be provided with an initial starting point and registration time. There will be staggered starting times at set intervals based on the number of teams entered. The team&#39\;s starting time will be noted as the winner will be based on actual time plus penalties from their start to finish rather than who finishes first.</span></span></span></span></p>\n\n<p dir="ltr" style="line-height:1.3800000000000001\;margin-top:0pt\;margin-bottom:10pt\;"><span style="font-size:16px\;"><span style="font-family:times new roman\;"><span id="docs-internal-guid-75eff073-7fff-bf05-8621-677aa39eec99"><span style="color: rgb(0\, 0\, 0)\; background-color: transparent\; font-variant-numeric: normal\; font-variant-east-asian: normal\; vertical-align: baseline\; white-space: pre-wrap\;">At the starting location\, the teams will be given their first challenge. When the first challenge begins\, the team&#39\;s starting time will be recorded. Upon completion of the first challenge\, the team will be given a checklist of the ten locations they must visit in order to complete the race. The team will then drive to the first location.</span></span></span></span></p>\n\n<p dir="ltr" style="line-height:1.3800000000000001\;margin-top:0pt\;margin-bottom:10pt\;"><span style="font-size:16px\;"><span style="font-family:times new roman\;"><span id="docs-internal-guid-75eff073-7fff-bf05-8621-677aa39eec99"><span style="color: rgb(0\, 0\, 0)\; background-color: transparent\; font-variant-numeric: normal\; font-variant-east-asian: normal\; vertical-align: baseline\; white-space: pre-wrap\;">At each location\, the team will need to complete that location&#39\;s challenge. Once that challenge is complete\, the location representative will initial the team&#39\;s checklist and provide them with an envelope with puzzle pieces in it.</span></span></span></span></p>\n\n<p dir="ltr" style="line-height:1.3800000000000001\;margin-top:0pt\;margin-bottom:10pt\;"><span style="font-size:16px\;"><span style="font-family:times new roman\;"><span id="docs-internal-guid-75eff073-7fff-bf05-8621-677aa39eec99"><span style="color: rgb(0\, 0\, 0)\; background-color: transparent\; font-variant-numeric: normal\; font-variant-east-asian: normal\; vertical-align: baseline\; white-space: pre-wrap\;">Once the team has successfully completed the challenges at all ten locations\, the team will go to the finish line. Before a team can officially cross the finish line\, the team will be provided a table on which they must complete a puzzle using all the puzzle pieces received throughout the race. Upon successful completion of the puzzle\, the team&#39\;s completion time will be noted to calculate their total race time.</span></span></span></span></p>\n\n<p dir="ltr" style="line-height:1.3800000000000001\;margin-top:0pt\;margin-bottom:10pt\;"><span style="font-size:16px\;"><span style="font-family:times new roman\;"><span id="docs-internal-guid-75eff073-7fff-bf05-8621-677aa39eec99"><span style="color: rgb(0\, 0\, 0)\; background-color: transparent\; font-variant-numeric: normal\; font-variant-east-asian: normal\; vertical-align: baseline\; white-space: pre-wrap\;">The winner will be the team that completes the race in the least amount of time. Prizes will be awarded!</span></span></span></span><br />\n<br />\n&nbsp\;</p>\n\n<p dir="ltr" style="line-height:1.3800000000000001\;margin-top:0pt\;margin-bottom:10pt\;"><span style="font-size:16px\;"><span style="font-family:times new roman\;"><span id="docs-internal-guid-e9a8c3a2-7fff-e36c-bb1b-7622beb20a25"><span style="color: rgb(0\, 0\, 0)\; background-color: transparent\; font-variant-numeric: normal\; font-variant-east-asian: normal\; vertical-align: baseline\; white-space: pre-wrap\;">SAFETY</span><br />\n<span style="color: rgb(0\, 0\, 0)\; background-color: transparent\; font-variant-numeric: normal\; font-variant-east-asian: normal\; vertical-align: baseline\; white-space: pre-wrap\;">Teams must obey all applicable laws at all times. Traffic safety is an absolute must. Anyone caught violating a traffic law will be immediately disqualified. Severe time penalties or disqualification will occur is anyone is observed driving in a reckless manner including driving too quickly through parking lots\, not parking appropriately\, squealing tires\, etc.</span></span></span></span></p>\n\n<p dir="ltr" style="line-height:1.3800000000000001\;margin-top:0pt\;margin-bottom:10pt\;"><span style="font-size:16px\;"><span style="font-family:times new roman\;"><span id="docs-internal-guid-e9a8c3a2-7fff-e36c-bb1b-7622beb20a25"><span style="color: rgb(0\, 0\, 0)\; background-color: transparent\; font-variant-numeric: normal\; font-variant-east-asian: normal\; vertical-align: baseline\; white-space: pre-wrap\;">When at challenge locations\, teams must be respectful of the business and the people around them. There is no running at any location. Doors should be opened and closed with care. If the business has customers\, teams must act in a professional manner so as not to disrupt normal business.</span></span></span></span></p>\n\n<p dir="ltr" style="line-height:1.3800000000000001\;margin-top:0pt\;margin-bottom:10pt\;"><span style="font-size:16px\;"><span style="font-family:times new roman\;"><span id="docs-internal-guid-e9a8c3a2-7fff-e36c-bb1b-7622beb20a25"><span style="color: rgb(0\, 0\, 0)\; background-color: transparent\; font-variant-numeric: normal\; font-variant-east-asian: normal\; vertical-align: baseline\; white-space: pre-wrap\;">CDC COVID-19 guidelines must be followed. Whenever possible\, a minimum of 6-feet distance must be maintained. Masks must be worn when physical distancing is not possible outdoors and at all times indoors unless at a table eating or drinking.</span></span></span></span><br />\n<br />\nREFUND POLICY<br />\nCancellations received at least 2&nbsp\;weeks prior to the event will receive a refund of their registration fee minus a 5% processing fee. Cancellations received within 2 weeks of the event will not be refunded.<br />\n<br />\n<span style="font-size:16px\;"><span style="font-family:times new roman\;">REGISTRATION WAIVER<br />\nBy registering for this event\, attendees acknowledge that an inherent risk of exposure to the disease COVID-19 and any other communicable or infectious disease exists in any public place where people are present. No precautions can completely eliminate the risk of exposure to COVID-19 and the risk of exposure applies to everyone. Therefore\, by registering\, attendees agree to waive\, covenant not to sue\, and discharge the Yuma County Chamber of Commerce\, its representatives\, and the event venue arising out of or in any way relating to exposure to COVID-19 and any other communicable or infectious disease.<br />\n<br />\n<span style="color: rgb(0\, 0\, 0)\; background-color: transparent\; font-variant-numeric: normal\; font-variant-east-asian: normal\; vertical-align: baseline\; white-space: pre-wrap\;">TEAMS MUST SIGN A LIABILITY WAIVER PRIOR TO PARTICIPATION.</span><br />\n<br />\n<b style="color: rgb(32\, 33\, 36)\; font-family: Roboto\, arial\, sans-serif\; font-size: 16px\;">The Amazing Race</b><span style="color: rgb(32\, 33\, 36)\;"><strong>&nbsp\;Yuma County</strong> is a networking and fundraising event for the Yuma County Chamber of Commerce. It is&nbsp\;</span><b style="color: rgb(32\, 33\, 36)\; font-family: Roboto\, arial\, sans-serif\; font-size: 16px\;">not affiliated</b><span style="color: rgb(32\, 33\, 36)\;">&nbsp\;with CBS\, World Race</span><span style="color: rgb(32\, 33\, 36)\;">&nbsp\;Productions or The Amazing Race.</span></span></span></p>\n\n<div>&nbsp\;</div>\n\n<div>&nbsp\;</div>\n
LOCATION:
UID:e.3378.2107
SEQUENCE:3
DTSTAMP:20260420T102736Z
URL:https://members.yumachamber.org/events/details/amazing-race-yuma-county-2024-2107
END:VEVENT

END:VCALENDAR
