BEGIN:VCALENDAR
VERSION:2.0
PRODID:-//ChamberMaster//Event Calendar 2.0//EN
METHOD:PUBLISH
X-PUBLISHED-TTL:P3D
REFRESH-INTERVAL:P3D
CALSCALE:GREGORIAN
BEGIN:VEVENT
DTSTART:20221110T133000Z
DTEND:20221110T160000Z
X-MICROSOFT-CDO-ALLDAYEVENT:FALSE
SUMMARY:Good Morning Yuma Restaurant Edition
DESCRIPTION:Gather your family and friends and support local!\n\n \n On November 10th\, have your own Good Morning Yuma! Breakfast at any of the restaurant chamber members listed below. \n\nPost a picture of your breakfast on Facebook or Instagram by 9 am with the hashtag #NovemberGMY to enter for a chance to win a door prize! \n\nWe will announce the winners on Facebook at 10 am.\n\n\n\nEat at any of the following chamber member restaurants:\n\n\n	Black Bear Diner\n	Brewers at the Airport\n	Burger Theory\n	Coyote Wash Golf Course\n	Cracker Barrel\n	Daybreakers Cafe\n	Daybreakers Cafe 2\n	Diego's Mexican Food\n	Dog Haus\n	McDonald's\n	Mi Rancho Restaurant\n	Mr. G's\n	Paradise Casino\n	Penny's Dinner\n	Tacos Mi Rancho\n	The Broken Yolk\n	Yuma Landing Bar and Grill\n	Burgers & Beer\n	Wheezy's Sports Bar & Grill\n	The Chile Pepper
X-ALT-DESC;FMTTYPE=text/html:<div style="color: rgb(0\, 0\, 0)\; font-family: Arial\, Verdana\, Helvetica\, sans-serif\; font-size: 14px\; white-space: pre-wrap\; text-align: center\;">&nbsp\;</div>\n<span style="font-size:16px\;"><span style="font-family:arial\;">Gather your family and friends and support local!</span></span>\n\n<div style="color: rgb(0\, 0\, 0)\; font-family: Arial\, Verdana\, Helvetica\, sans-serif\; font-size: 14px\; white-space: pre-wrap\; text-align: center\;">&nbsp\;</div>\n<span style="font-size:16px\;"><span style="font-family:arial\;"> On November 10th\, have your own Good Morning Yuma! Breakfast at any of the restaurant chamber members listed below.&nbsp\;<br />\nPost a picture of your breakfast on Facebook or Instagram by 9 am with the hashtag #NovemberGMY to enter for a chance to win a door prize!&nbsp\;<br />\nWe will announce the winners on Facebook at 10 am.<br />\n<br />\nEat at any of the following chamber member restaurants:</span></span>\n\n<ul>\n	<li class="_04xlpA direction-ltr align-justify para-style-body" style="color: rgb(0\, 0\, 0)\; font-family: &quot\;YAD7QhG2T6o 0&quot\;\, _fb_\, auto\; --font-size:24.3848px\; --line-height:1.4\; line-height: 34px\;"><span style="font-size:16px\;"><span style="font-family:arial\;"><span class="JsGRdQ">Black Bear Diner</span></span></span></li>\n	<li class="_04xlpA direction-ltr align-justify para-style-body" style="color: rgb(0\, 0\, 0)\; font-family: &quot\;YAD7QhG2T6o 0&quot\;\, _fb_\, auto\; --font-size:24.3848px\; --line-height:1.4\; line-height: 34px\;"><span style="font-size:16px\;"><span style="font-family:arial\;"><span class="JsGRdQ">Brewers at the Airport</span></span></span></li>\n	<li class="_04xlpA direction-ltr align-justify para-style-body" style="color: rgb(0\, 0\, 0)\; font-family: &quot\;YAD7QhG2T6o 0&quot\;\, _fb_\, auto\; --font-size:24.3848px\; --line-height:1.4\; line-height: 34px\;"><span style="font-size:16px\;"><span style="font-family:arial\;"><span class="JsGRdQ">Burger Theory</span></span></span></li>\n	<li class="_04xlpA direction-ltr align-justify para-style-body" style="color: rgb(0\, 0\, 0)\; font-family: &quot\;YAD7QhG2T6o 0&quot\;\, _fb_\, auto\; --font-size:24.3848px\; --line-height:1.4\; line-height: 34px\;"><span style="font-size:16px\;"><span style="font-family:arial\;"><span class="JsGRdQ">Coyote Wash Golf Course</span></span></span></li>\n	<li class="_04xlpA direction-ltr align-justify para-style-body" style="color: rgb(0\, 0\, 0)\; font-family: &quot\;YAD7QhG2T6o 0&quot\;\, _fb_\, auto\; --font-size:24.3848px\; --line-height:1.4\; line-height: 34px\;"><span style="font-size:16px\;"><span style="font-family:arial\;"><span class="JsGRdQ">Cracker Barrel</span></span></span></li>\n	<li class="_04xlpA direction-ltr align-justify para-style-body" style="color: rgb(0\, 0\, 0)\; font-family: &quot\;YAD7QhG2T6o 0&quot\;\, _fb_\, auto\; --font-size:24.3848px\; --line-height:1.4\; line-height: 34px\;"><span style="font-size:16px\;"><span style="font-family:arial\;"><span class="JsGRdQ">Daybreakers Cafe</span></span></span></li>\n	<li class="_04xlpA direction-ltr align-justify para-style-body" style="color: rgb(0\, 0\, 0)\; font-family: &quot\;YAD7QhG2T6o 0&quot\;\, _fb_\, auto\; --font-size:24.3848px\; --line-height:1.4\; line-height: 34px\;"><span style="font-size:16px\;"><span style="font-family:arial\;"><span class="JsGRdQ">Daybreakers Cafe 2</span></span></span></li>\n	<li class="_04xlpA direction-ltr align-justify para-style-body" style="color: rgb(0\, 0\, 0)\; font-family: &quot\;YAD7QhG2T6o 0&quot\;\, _fb_\, auto\; --font-size:24.3848px\; --line-height:1.4\; line-height: 34px\;"><span style="font-size:16px\;"><span style="font-family:arial\;"><span class="JsGRdQ">Diego&#39\;s Mexican Food</span></span></span></li>\n	<li class="_04xlpA direction-ltr align-justify para-style-body" style="color: rgb(0\, 0\, 0)\; font-family: &quot\;YAD7QhG2T6o 0&quot\;\, _fb_\, auto\; --font-size:24.3848px\; --line-height:1.4\; line-height: 34px\;"><span style="font-size:16px\;"><span style="font-family:arial\;"><span class="JsGRdQ">Dog Haus</span></span></span></li>\n	<li class="_04xlpA direction-ltr align-justify para-style-body" style="color: rgb(0\, 0\, 0)\; font-family: &quot\;YAD7QhG2T6o 0&quot\;\, _fb_\, auto\; --font-size:24.3848px\; --line-height:1.4\; line-height: 34px\;"><span style="font-size:16px\;"><span style="font-family:arial\;"><span class="JsGRdQ">McDonald&#39\;s</span></span></span></li>\n	<li class="_04xlpA direction-ltr align-justify para-style-body" style="color: rgb(0\, 0\, 0)\; font-family: &quot\;YAD7QhG2T6o 0&quot\;\, _fb_\, auto\; --font-size:24.3848px\; --line-height:1.4\; line-height: 34px\;"><span style="font-size:16px\;"><span style="font-family:arial\;"><span class="JsGRdQ">Mi Rancho Restaurant</span></span></span></li>\n	<li class="_04xlpA direction-ltr align-justify para-style-body" style="color: rgb(0\, 0\, 0)\; font-family: &quot\;YAD7QhG2T6o 0&quot\;\, _fb_\, auto\; --font-size:24.3848px\; --line-height:1.4\; line-height: 34px\;"><span style="font-size:16px\;"><span style="font-family:arial\;"><span class="JsGRdQ">Mr. G&#39\;s</span></span></span></li>\n	<li class="_04xlpA direction-ltr align-justify para-style-body" style="color: rgb(0\, 0\, 0)\; font-family: &quot\;YAD7QhG2T6o 0&quot\;\, _fb_\, auto\; --font-size:24.3848px\; --line-height:1.4\; line-height: 34px\;"><span style="font-size:16px\;"><span style="font-family:arial\;"><span class="JsGRdQ">Paradise Casino</span></span></span></li>\n	<li class="_04xlpA direction-ltr align-justify para-style-body" style="color: rgb(0\, 0\, 0)\; font-family: &quot\;YAD7QhG2T6o 0&quot\;\, _fb_\, auto\; --font-size:24.3848px\; --line-height:1.4\; line-height: 34px\;"><span style="font-size:16px\;"><span style="font-family:arial\;"><span class="JsGRdQ">Penny&#39\;s Dinner</span></span></span></li>\n	<li class="_04xlpA direction-ltr align-justify para-style-body" style="color: rgb(0\, 0\, 0)\; font-family: &quot\;YAD7QhG2T6o 0&quot\;\, _fb_\, auto\; --font-size:24.3848px\; --line-height:1.4\; line-height: 34px\;"><span style="font-size:16px\;"><span style="font-family:arial\;"><span class="JsGRdQ">Tacos Mi Rancho</span></span></span></li>\n	<li class="_04xlpA direction-ltr align-justify para-style-body" style="color: rgb(0\, 0\, 0)\; font-family: &quot\;YAD7QhG2T6o 0&quot\;\, _fb_\, auto\; --font-size:24.3848px\; --line-height:1.4\; line-height: 34px\;"><span style="font-size:16px\;"><span style="font-family:arial\;"><span class="JsGRdQ">The Broken Yolk</span></span></span></li>\n	<li class="_04xlpA direction-ltr align-justify para-style-body" style="color: rgb(0\, 0\, 0)\; font-family: &quot\;YAD7QhG2T6o 0&quot\;\, _fb_\, auto\; --font-size:24.3848px\; --line-height:1.4\; line-height: 34px\;"><span style="font-size:16px\;"><span style="font-family:arial\;"><span class="JsGRdQ">Yuma Landing Bar and Grill</span></span></span></li>\n	<li class="_04xlpA direction-ltr align-justify para-style-body" style="color: rgb(0\, 0\, 0)\; font-family: &quot\;YAD7QhG2T6o 0&quot\;\, _fb_\, auto\; --font-size:24.3848px\; --line-height:1.4\; line-height: 34px\;"><span style="font-size:16px\;"><span style="font-family:arial\;"><span class="JsGRdQ">Burgers &amp\; Beer</span></span></span></li>\n	<li class="_04xlpA direction-ltr align-justify para-style-body" style="color: rgb(0\, 0\, 0)\; font-family: &quot\;YAD7QhG2T6o 0&quot\;\, _fb_\, auto\; --font-size:24.3848px\; --line-height:1.4\; line-height: 34px\;"><span style="font-size:16px\;"><span style="font-family:arial\;"><span class="JsGRdQ">Wheezy&#39\;s Sports Bar &amp\; Grill</span></span></span></li>\n	<li class="_04xlpA direction-ltr align-justify para-style-body" style="color: rgb(0\, 0\, 0)\; font-family: &quot\;YAD7QhG2T6o 0&quot\;\, _fb_\, auto\; --font-size:24.3848px\; --line-height:1.4\; line-height: 34px\;"><span style="font-size:16px\;"><span style="font-family:arial\;"><span class="JsGRdQ">The Chile Pepper</span></span></span></li>\n</ul>\n<br />\n&nbsp\;
LOCATION:
UID:e.3378.1005
SEQUENCE:3
DTSTAMP:20260425T223649Z
URL:https://members.yumachamber.org/events/details/good-morning-yuma-restaurant-edition-1005
END:VEVENT

END:VCALENDAR
