BEGIN:VCALENDAR
VERSION:2.0
PRODID:-//ChamberMaster//Event Calendar 2.0//EN
METHOD:PUBLISH
X-PUBLISHED-TTL:P3D
REFRESH-INTERVAL:P3D
CALSCALE:GREGORIAN
BEGIN:VEVENT
DTSTART:20260506T190000Z
DTEND:20260506T200000Z
X-MICROSOFT-CDO-ALLDAYEVENT:FALSE
SUMMARY:Leave It\, Move It\, Roll It\, Take It - 401k Rollover Education
DESCRIPTION:How you handle your 401(k)\, pension or other employer-sponsored retirement plan when you leave your job is one of the most important financial decisions you can make.\n\nJoin us for our presentation Leave It\, Move It\, Roll It\, Take It to discuss:\n\n\n	The most common distribution options\n	How to avoid having the IRS withhold 20% of your retirement distribution\n	How taxes\, penalties and investment options factor into your decision\n\n\nThe education will be virtual.  Please RSVP below or call us today to let us know if you and a guest will attend.
X-ALT-DESC;FMTTYPE=text/html:<p>How you handle your 401(k)\, pension or other employer-sponsored retirement plan when you leave your job is one of the most important financial decisions you can make.</p>\n\n<p>Join us for our presentation&nbsp\;<strong>Leave It\, Move It\, Roll It\, Take It</strong>&nbsp\;to discuss:</p>\n\n<ul>\n	<li>The most common distribution options</li>\n	<li>How to avoid having the IRS withhold 20% of your retirement distribution</li>\n	<li>How taxes\, penalties and investment options factor into your decision</li>\n</ul>\n\n<p>The education will be virtual.&nbsp\; Please RSVP below or call us today to let us know if you and a guest will attend.</p>\n
LOCATION:Virtual
UID:e.3378.7230
SEQUENCE:3
DTSTAMP:20260423T235520Z
URL:https://members.yumachamber.org/events/details/leave-it-move-it-roll-it-take-it-401k-rollover-education-7230
END:VEVENT

END:VCALENDAR
