BEGIN:VCALENDAR
VERSION:2.0
PRODID:-//ChamberMaster//Event Calendar 2.0//EN
METHOD:PUBLISH
X-PUBLISHED-TTL:P3D
REFRESH-INTERVAL:P3D
CALSCALE:GREGORIAN
BEGIN:VEVENT
DTSTART:20260312T003000Z
DTEND:20260312T020000Z
X-MICROSOFT-CDO-ALLDAYEVENT:FALSE
SUMMARY:Member Mixer National Bank of Arizona March 11\, 2026
DESCRIPTION:Join us for an engaging evening designed to bring our business community together. This Member Mixer is the perfect opportunity to make new connections\, strengthen existing relationships\, and exchange ideas in a relaxed and welcoming setting.\n\n\n\n  Wednesday\, March 11\, 2026\n\n  5:30 p.m.   7:00 p.m.\n\n  Hosted by: National Bank of Arizona
X-ALT-DESC;FMTTYPE=text/html:<span style="font-size:16px\;"><span style="font-family:arial\;">Join us for an engaging evening designed to bring our business community together. This Member Mixer is the perfect opportunity to make new connections\, strengthen existing relationships\, and exchange ideas in a relaxed and welcoming setting.<br />\n<br />\n&#128197\; <strong data-end="214" data-start="183">Wednesday\, March 11\, 2026</strong><br data-end="217" data-start="214" />\n&#128352\; <strong data-end="245" data-start="220">5:30 p.m. &ndash\; 7:00 p.m.</strong><br data-end="248" data-start="245" />\n&#127881\; <strong data-end="283" data-start="251">Hosted by: National Bank of Arizona</strong></span></span>\n<p style="color: rgb(14\, 16\, 26)\; background: transparent\; margin-top: 0pt\; margin-bottom: 0pt\;">&nbsp\;</p>\n
LOCATION:National Bank of Arizona 2nd Floor 16th St
UID:e.3378.6517
SEQUENCE:3
DTSTAMP:20260420T121634Z
URL:https://members.yumachamber.org/events/details/member-mixer-national-bank-of-arizona-march-11-2026-6517
END:VEVENT

END:VCALENDAR
