BEGIN:VCALENDAR
VERSION:2.0
PRODID:-//ChamberMaster//Event Calendar 2.0//EN
METHOD:PUBLISH
X-PUBLISHED-TTL:P3D
REFRESH-INTERVAL:P3D
CALSCALE:GREGORIAN
BEGIN:VEVENT
DTSTART:20260424T160000Z
DTEND:20260424T230000Z
X-MICROSOFT-CDO-ALLDAYEVENT:FALSE
SUMMARY:MS Excel 2021/365 Excel Level 3 Workshop
DESCRIPTION:Ready to master advanced Excel skills? Take your expertise to the next level with AWC Continuing Education's Excel Level 3 Workshop! This course is designed for those who already know the basics and intermediate features and want to unlock Excel's full potential.\n\nWhat you'll learn:\n\n\n	PivotTables & PivotCharts for powerful data analysis\n	Advanced functions like VLOOKUP\, HLOOKUP\, and IF statements\n	Data validation & protection techniques\n	Creating dynamic dashboards for impactful reporting\n	Automating tasks with Macros for ultimate efficiency\n\n\nWhether you're analyzing large datasets\, building reports\, or streamlining workflows\, this workshop will help you work smarter and faster.\n\nMicrosoft Excel 2021/365 - Level 3 | Arizona Western College
X-ALT-DESC;FMTTYPE=text/html:<p>Ready to master advanced Excel skills? Take your expertise to the next level with AWC Continuing Education&#39\;s Excel Level 3 Workshop! This course is designed for those who already know the basics and intermediate features and want to unlock Excel&#39\;s full potential.</p>\n\n<p>What you&#39\;ll learn:</p>\n\n<ul>\n	<li>PivotTables &amp\; PivotCharts for powerful data analysis</li>\n	<li>Advanced functions like VLOOKUP\, HLOOKUP\, and IF statements</li>\n	<li>Data validation &amp\; protection techniques</li>\n	<li>Creating dynamic dashboards for impactful reporting</li>\n	<li>Automating tasks with Macros for ultimate efficiency</li>\n</ul>\n\n<p>Whether you&#39\;re analyzing large datasets\, building reports\, or streamlining workflows\, this workshop will help you work smarter and faster.</p>\n\n<div><a class="OWAAutoLink" href="https://www.azwestern.edu/workforce-ed/professional-development/excel-advanced" id="OWA2ddcdc59-ae07-7dad-a920-e77619715b7a" style="color: rgb(83\, 118\, 176)\; margin: 0px\;" title="Original URL:https://www.azwestern.edu/workforce-ed/professional-development/excel-advancedClick to follow link.">Microsoft Excel 2021/365 - Level 3 | Arizona Western College</a></div>\n\n<p>&nbsp\;</p>\n
LOCATION:AWC Downtown Center 1351 S. Redondo Center Dr. Yuma\, AZ 85365
UID:e.3378.7208
SEQUENCE:3
DTSTAMP:20260423T235144Z
URL:https://members.yumachamber.org/events/details/ms-excel-2021-365-excel-level-3-workshop-7208
END:VEVENT

END:VCALENDAR
